BEGIN:VCALENDAR
VERSION:2.0
PRODID:-//Gemeinde Oberahr / Westerwald//NONSGML kigkonsult.se iCalcreator 
 2.30.10//
CALSCALE:GREGORIAN
METHOD:PUBLISH
UID:9eab069f-3e59-4b77-b86a-48f939f95fb6
X-WR-CALNAME:iCagenda
X-WR-CALDESC:Event Management Extension for Joomla!
X-WR-RELCALID:3E26604A-50F4-4449-8B3E-E4F4932D05B5
X-WR-TIMEZONE:UTC
BEGIN:VTIMEZONE
TZID:UTC
END:VTIMEZONE
BEGIN:VEVENT
UID:cfaa4708-d299-4d4c-96b0-b6c8ba869a63
DTSTAMP:20260421T102443Z
CATEGORIES:Hallenbelegung
CLASS:PUBLIC
DESCRIPTION:
DTSTART:20250512T153000Z
DTEND:20250512T153000Z
GEO:00;0
LOCATION:Dorfgemeinschaftshalle Oberahr
ORGANIZER:
SEQUENCE:1
SUMMARY:TuS Kinderturnen
TRANSP:OPAQUE
URL:https://www.oberahr.de/component/icagenda/123-tus-kinderturnen/2025-05-
 12-15-30
END:VEVENT
END:VCALENDAR
