BEGIN:VCALENDAR
VERSION:2.0
PRODID:-//Gemeinde Oberahr / Westerwald//NONSGML kigkonsult.se iCalcreator 
 2.30.10//
CALSCALE:GREGORIAN
METHOD:PUBLISH
UID:03da81ab-218e-4d0e-bb65-545fe8b2c401
X-WR-CALNAME:iCagenda
X-WR-CALDESC:Event Management Extension for Joomla!
X-WR-RELCALID:3E26604A-50F4-4449-8B3E-E4F4932D05B5
X-WR-TIMEZONE:UTC
BEGIN:VTIMEZONE
TZID:UTC
END:VTIMEZONE
BEGIN:VEVENT
UID:fa743d31-199f-44cf-be12-9eef4a2c6635
DTSTAMP:20260422T093522Z
CATEGORIES:Veranstaltungen
CLASS:PUBLIC
DESCRIPTION:
DTSTART:20220224T000000Z
DTEND:20220302T220000Z
GEO:00;0
LOCATION:
ORGANIZER:
SEQUENCE:1
SUMMARY:Karneval in Oberahr
TRANSP:OPAQUE
URL:https://www.oberahr.de/component/icagenda/116-karneval-in-oberahr
END:VEVENT
END:VCALENDAR
