BEGIN:VCALENDAR
VERSION:2.0
PRODID:-//Gemeinde Oberahr / Westerwald//NONSGML kigkonsult.se iCalcreator 
 2.30.10//
CALSCALE:GREGORIAN
METHOD:PUBLISH
UID:ef843907-60f8-49dc-9e34-e1ff742ff615
X-WR-CALNAME:iCagenda
X-WR-CALDESC:Event Management Extension for Joomla!
X-WR-RELCALID:3E26604A-50F4-4449-8B3E-E4F4932D05B5
X-WR-TIMEZONE:UTC
BEGIN:VTIMEZONE
TZID:UTC
END:VTIMEZONE
BEGIN:VEVENT
UID:6f8ddea8-24db-43b6-a1a7-d249a1bd410f
DTSTAMP:20260423T092033Z
CATEGORIES:Veranstaltungen
CLASS:PUBLIC
DESCRIPTION:
DTSTART:20220208T000000Z
DTEND:20220208T230000Z
GEO:00;0
LOCATION:
ORGANIZER:
SEQUENCE:1
SUMMARY:Würfeltunier des TUS Oberahr
TRANSP:OPAQUE
URL:https://www.oberahr.de/component/icagenda/115-wuerfeltunier-des-tus-obe
 rahr
END:VEVENT
END:VCALENDAR
