BEGIN:VCALENDAR
VERSION:2.0
PRODID:-//Gemeinde Oberahr / Westerwald//NONSGML kigkonsult.se iCalcreator 
 2.30.10//
CALSCALE:GREGORIAN
METHOD:PUBLISH
UID:9a2d90a8-68cf-4d5b-a911-50aaf0d0d1fe
X-WR-CALNAME:iCagenda
X-WR-CALDESC:Event Management Extension for Joomla!
X-WR-RELCALID:3E26604A-50F4-4449-8B3E-E4F4932D05B5
X-WR-TIMEZONE:UTC
BEGIN:VTIMEZONE
TZID:UTC
END:VTIMEZONE
BEGIN:VEVENT
UID:d1fe3520-b573-49d4-a6ef-0fb6ad79f418
DTSTAMP:20260421T185003Z
CATEGORIES:Hallenbelegung
CLASS:PUBLIC
DESCRIPTION;ALTREP="CID:<FFFF__=0ABBE548DFE235B58f9e8a93d@coffeebean.com>":
 Tanztraining der Gardetanzgruppe Oberahr\; Ansprechpartner Fabienne Wetisc
 hka
DTSTART:20230817T180000Z
DTEND:20230817T200000Z
GEO:00;0
LOCATION:Dorfgemeinschaftshalle Oberahr
ORGANIZER:
SEQUENCE:1
SUMMARY:DGV Oberahr Gardetraining
TRANSP:OPAQUE
URL:https://www.oberahr.de/component/icagenda/101-garde-oberahr/2023-08-17-
 18-00
END:VEVENT
END:VCALENDAR
