BEGIN:VCALENDAR
VERSION:2.0
PRODID:-//Gemeinde Oberahr / Westerwald//NONSGML kigkonsult.se iCalcreator 
 2.30.10//
CALSCALE:GREGORIAN
METHOD:PUBLISH
UID:11cc1349-793c-45c7-af4d-d150a234f954
X-WR-CALNAME:iCagenda
X-WR-CALDESC:Event Management Extension for Joomla!
X-WR-RELCALID:3E26604A-50F4-4449-8B3E-E4F4932D05B5
X-WR-TIMEZONE:UTC
BEGIN:VTIMEZONE
TZID:UTC
END:VTIMEZONE
BEGIN:VEVENT
UID:b4df38b7-686f-4979-acb0-c24bb1563199
DTSTAMP:20260423T103119Z
CATEGORIES:Hallenbelegung
CLASS:PUBLIC
DESCRIPTION;ALTREP="CID:<FFFF__=0ABBE548DFE235B58f9e8a93d@coffeebean.com>":
 Tanztraining der Gardetanzgruppe Oberahr\; Ansprechpartner Fabienne Wetisc
 hka
DTSTART:20230216T180000Z
DTEND:20230216T200000Z
GEO:00;0
LOCATION:Dorfgemeinschaftshalle Oberahr
ORGANIZER:
SEQUENCE:1
SUMMARY:DGV Oberahr Gardetraining
TRANSP:OPAQUE
URL:https://www.oberahr.de/component/icagenda/101-garde-oberahr/2023-02-16-
 18-00
END:VEVENT
END:VCALENDAR
