BEGIN:VCALENDAR
VERSION:2.0
PRODID:-//Gemeinde Oberahr / Westerwald//NONSGML kigkonsult.se iCalcreator 
 2.30.10//
CALSCALE:GREGORIAN
METHOD:PUBLISH
UID:e6a5ecb6-8394-450e-aace-0ace9ec3a16a
X-WR-CALNAME:iCagenda
X-WR-CALDESC:Event Management Extension for Joomla!
X-WR-RELCALID:3E26604A-50F4-4449-8B3E-E4F4932D05B5
X-WR-TIMEZONE:UTC
BEGIN:VTIMEZONE
TZID:UTC
END:VTIMEZONE
BEGIN:VEVENT
UID:72e8a823-417e-4d3b-97cb-3057ee9c37df
DTSTAMP:20260419T125252Z
CATEGORIES:Hallenbelegung
CLASS:PUBLIC
DESCRIPTION:
DTSTART:20250821T193000Z
DTEND:20250821T213000Z
GEO:00;0
LOCATION:Dorfgemeinschaftshalle Oberahr
ORGANIZER:
SEQUENCE:1
SUMMARY:TUS Oberahr Magic Star Dancers Training
TRANSP:OPAQUE
URL:https://www.oberahr.de/component/icagenda/100-magic-star-dancers/2025-0
 8-21-19-30
END:VEVENT
END:VCALENDAR
