BEGIN:VCALENDAR
VERSION:2.0
PRODID:-//Gemeinde Oberahr / Westerwald//NONSGML kigkonsult.se iCalcreator 
 2.30.10//
CALSCALE:GREGORIAN
METHOD:PUBLISH
UID:a55c4f4d-79df-4465-823c-7a253b38bc79
X-WR-CALNAME:iCagenda
X-WR-CALDESC:Event Management Extension for Joomla!
X-WR-RELCALID:3E26604A-50F4-4449-8B3E-E4F4932D05B5
X-WR-TIMEZONE:UTC
BEGIN:VTIMEZONE
TZID:UTC
END:VTIMEZONE
BEGIN:VEVENT
UID:fdfebe22-911f-4633-9f4e-e3d14360fa35
DTSTAMP:20260419T125256Z
CATEGORIES:Hallenbelegung
CLASS:PUBLIC
DESCRIPTION:
DTSTART:20250807T193000Z
DTEND:20250807T213000Z
GEO:00;0
LOCATION:Dorfgemeinschaftshalle Oberahr
ORGANIZER:
SEQUENCE:1
SUMMARY:TUS Oberahr Magic Star Dancers Training
TRANSP:OPAQUE
URL:https://www.oberahr.de/component/icagenda/100-magic-star-dancers/2025-0
 8-07-19-30
END:VEVENT
END:VCALENDAR
