BEGIN:VCALENDAR
VERSION:2.0
PRODID:-//Gemeinde Oberahr / Westerwald//NONSGML kigkonsult.se iCalcreator 
 2.30.10//
CALSCALE:GREGORIAN
METHOD:PUBLISH
UID:33301311-de47-4039-b690-0fff202b0d5a
X-WR-CALNAME:iCagenda
X-WR-CALDESC:Event Management Extension for Joomla!
X-WR-RELCALID:3E26604A-50F4-4449-8B3E-E4F4932D05B5
X-WR-TIMEZONE:UTC
BEGIN:VTIMEZONE
TZID:UTC
END:VTIMEZONE
BEGIN:VEVENT
UID:c777c3b0-db1a-4833-b51b-943978efe4be
DTSTAMP:20260420T145305Z
CATEGORIES:Hallenbelegung
CLASS:PUBLIC
DESCRIPTION:
DTSTART:20240704T193000Z
DTEND:20240704T213000Z
GEO:00;0
LOCATION:Dorfgemeinschaftshalle Oberahr
ORGANIZER:
SEQUENCE:1
SUMMARY:TUS Oberahr Magic Star Dancers Training
TRANSP:OPAQUE
URL:https://www.oberahr.de/component/icagenda/100-magic-star-dancers/2024-0
 7-04-19-30
END:VEVENT
END:VCALENDAR
